Package: gcatest Version: 2.11.0 Command: /home/biocbuild/bbs-3.23-bioc/R/bin/R CMD build --keep-empty-dirs --no-resave-data gcatest StartedAt: 2025-11-20 17:42:22 -0500 (Thu, 20 Nov 2025) EndedAt: 2025-11-20 17:42:45 -0500 (Thu, 20 Nov 2025) EllapsedTime: 23.0 seconds RetCode: 0 Status: OK PackageFile: gcatest_2.11.0.tar.gz PackageFileSize: 2.147 MiB