Package: gcatest Version: 2.9.0 Command: /Library/Frameworks/R.framework/Resources/bin/R CMD INSTALL gcatest StartedAt: 2025-10-06 15:03:23 -0400 (Mon, 06 Oct 2025) EndedAt: 2025-10-06 15:03:30 -0400 (Mon, 06 Oct 2025) EllapsedTime: 7.4 seconds RetCode: 0 Status: OK