Package: gcatest Version: 2.9.0 Command: rm -rf gcatest.buildbin-libdir && mkdir gcatest.buildbin-libdir && /Users/biocbuild/BBS/utils/build-universal.sh gcatest_2.9.0.tar.gz /Library/Frameworks/R.framework/Resources/bin/R gcatest.buildbin-libdir StartedAt: 2025-10-05 22:43:42 -0400 (Sun, 05 Oct 2025) EndedAt: 2025-10-05 22:43:46 -0400 (Sun, 05 Oct 2025) EllapsedTime: 4.1 seconds RetCode: 0 Status: OK PackageFile: gcatest_2.9.0.tgz PackageFileSize: 3.549 MiB