Package: gcapc Version: 1.33.1 Command: /home/biocbuild/bbs-3.22-bioc/R/bin/R CMD check --install=check:gcapc.install-out.txt --library=/home/biocbuild/bbs-3.22-bioc/R/site-library --timings gcapc_1.33.1.tar.gz StartedAt: 2025-10-15 00:03:54 -0400 (Wed, 15 Oct 2025) EndedAt: 2025-10-15 00:13:09 -0400 (Wed, 15 Oct 2025) EllapsedTime: 554.6 seconds RetCode: 0 Status: OK CheckDir: gcapc.Rcheck Warnings: 0