Package: gcapc Version: 1.35.0 Command: /home/biocbuild/bbs-3.23-bioc/R/bin/R CMD check --install=check:gcapc.install-out.txt --library=/home/biocbuild/bbs-3.23-bioc/R/site-library --timings gcapc_1.35.0.tar.gz StartedAt: 2025-11-25 23:47:06 -0500 (Tue, 25 Nov 2025) EndedAt: 2025-11-25 23:56:28 -0500 (Tue, 25 Nov 2025) EllapsedTime: 561.9 seconds RetCode: 0 Status: OK CheckDir: gcapc.Rcheck Warnings: 0