Package: gcapc Version: 1.35.0 Command: /home/biocbuild/bbs-3.23-bioc/R/bin/R CMD build --keep-empty-dirs --no-resave-data gcapc StartedAt: 2025-11-04 17:37:33 -0500 (Tue, 04 Nov 2025) EndedAt: 2025-11-04 17:41:07 -0500 (Tue, 04 Nov 2025) EllapsedTime: 214.2 seconds RetCode: 0 Status: OK PackageFile: gcapc_1.35.0.tar.gz PackageFileSize: 3.81 MiB