Package: gatom Version: 1.7.0 Command: /home/biocbuild/R/R/bin/R CMD build --keep-empty-dirs --no-resave-data gatom StartedAt: 2025-10-10 00:39:48 -0000 (Fri, 10 Oct 2025) EndedAt: 2025-10-10 01:10:38 -0000 (Fri, 10 Oct 2025) EllapsedTime: 1850.6 seconds RetCode: 0 Status: OK PackageFile: gatom_1.7.0.tar.gz PackageFileSize: 1.87 MiB