Package: gatom Version: 1.7.0 Command: /home/biocbuild/bbs-3.22-bioc/R/bin/R CMD check --install=check:gatom.install-out.txt --library=/home/biocbuild/bbs-3.22-bioc/R/site-library --timings gatom_1.7.0.tar.gz StartedAt: 2025-10-07 00:01:46 -0400 (Tue, 07 Oct 2025) EndedAt: 2025-10-07 00:11:02 -0400 (Tue, 07 Oct 2025) EllapsedTime: 555.6 seconds RetCode: 0 Status: OK CheckDir: gatom.Rcheck Warnings: 0