Package: gatom Version: 1.9.2 Command: /home/biocbuild/bbs-3.23-bioc/R/bin/R CMD INSTALL gatom StartedAt: 2025-11-20 15:25:27 -0500 (Thu, 20 Nov 2025) EndedAt: 2025-11-20 15:25:44 -0500 (Thu, 20 Nov 2025) EllapsedTime: 17.4 seconds RetCode: 0 Status: OK