Package: gatom Version: 1.9.2 Command: /home/biocbuild/bbs-3.23-bioc/R/bin/R CMD check --install=check:gatom.install-out.txt --library=/home/biocbuild/bbs-3.23-bioc/R/site-library --timings gatom_1.9.2.tar.gz StartedAt: 2025-11-21 23:43:11 -0500 (Fri, 21 Nov 2025) EndedAt: 2025-11-21 23:52:06 -0500 (Fri, 21 Nov 2025) EllapsedTime: 535.7 seconds RetCode: 0 Status: OK CheckDir: gatom.Rcheck Warnings: 0