Package: gatom Version: 1.7.0 Command: /Library/Frameworks/R.framework/Resources/bin/R CMD INSTALL gatom StartedAt: 2025-10-03 15:20:00 -0400 (Fri, 03 Oct 2025) EndedAt: 2025-10-03 15:20:24 -0400 (Fri, 03 Oct 2025) EllapsedTime: 24.4 seconds RetCode: 0 Status: OK