Package: gatom Version: 1.7.0 Command: /Library/Frameworks/R.framework/Resources/bin/R CMD build --keep-empty-dirs --no-resave-data gatom StartedAt: 2025-10-05 17:06:02 -0400 (Sun, 05 Oct 2025) EndedAt: 2025-10-05 17:12:27 -0400 (Sun, 05 Oct 2025) EllapsedTime: 385.3 seconds RetCode: 0 Status: OK PackageFile: gatom_1.7.0.tar.gz PackageFileSize: 1.61 MiB