Package: garfield Version: 1.39.0 Command: /home/biocbuild/bbs-3.23-bioc/R/bin/R CMD build --keep-empty-dirs --no-resave-data garfield StartedAt: 2025-10-31 17:52:39 -0400 (Fri, 31 Oct 2025) EndedAt: 2025-10-31 17:52:51 -0400 (Fri, 31 Oct 2025) EllapsedTime: 12.0 seconds RetCode: 0 Status: OK PackageFile: garfield_1.39.0.tar.gz PackageFileSize: 305 KiB