Package: garfield Version: 1.39.0 Command: /Library/Frameworks/R.framework/Resources/bin/R CMD INSTALL garfield StartedAt: 2025-11-20 15:10:05 -0500 (Thu, 20 Nov 2025) EndedAt: 2025-11-20 15:11:07 -0500 (Thu, 20 Nov 2025) EllapsedTime: 62.3 seconds RetCode: 0 Status: OK