Package: garfield Version: 1.37.0 Command: rm -rf garfield.buildbin-libdir && mkdir garfield.buildbin-libdir && /Users/biocbuild/BBS/utils/build-universal.sh garfield_1.37.0.tar.gz /Library/Frameworks/R.framework/Resources/bin/R garfield.buildbin-libdir StartedAt: 2025-10-21 23:01:39 -0400 (Tue, 21 Oct 2025) EndedAt: 2025-10-21 23:01:47 -0400 (Tue, 21 Oct 2025) EllapsedTime: 8.1 seconds RetCode: 0 Status: OK PackageFile: garfield_1.37.0.tgz PackageFileSize: 388.8 KiB