Package: gage Version: 2.61.0 Command: /Library/Frameworks/R.framework/Resources/bin/R CMD INSTALL gage StartedAt: 2025-11-21 15:22:36 -0500 (Fri, 21 Nov 2025) EndedAt: 2025-11-21 15:22:42 -0500 (Fri, 21 Nov 2025) EllapsedTime: 6.6 seconds RetCode: 0 Status: OK