Package: gage Version: 2.61.0 Command: rm -rf gage.buildbin-libdir && mkdir gage.buildbin-libdir && /Users/biocbuild/BBS/utils/build-universal.sh gage_2.61.0.tar.gz /Library/Frameworks/R.framework/Resources/bin/R gage.buildbin-libdir StartedAt: 2025-11-20 23:33:54 -0500 (Thu, 20 Nov 2025) EndedAt: 2025-11-20 23:34:04 -0500 (Thu, 20 Nov 2025) EllapsedTime: 10.1 seconds RetCode: 0 Status: OK PackageFile: gage_2.61.0.tgz PackageFileSize: 4.418 MiB