Package: gaga Version: 2.57.0 Command: /home/biocbuild/bbs-3.23-bioc/R/bin/R CMD build --keep-empty-dirs --no-resave-data gaga StartedAt: 2025-10-31 17:52:22 -0400 (Fri, 31 Oct 2025) EndedAt: 2025-10-31 17:52:44 -0400 (Fri, 31 Oct 2025) EllapsedTime: 22.0 seconds RetCode: 0 Status: OK PackageFile: gaga_2.57.0.tar.gz PackageFileSize: 569.9 KiB