Package: gaga Version: 2.57.0 Command: /Library/Frameworks/R.framework/Resources/bin/R CMD INSTALL gaga StartedAt: 2025-11-21 15:19:43 -0500 (Fri, 21 Nov 2025) EndedAt: 2025-11-21 15:20:03 -0500 (Fri, 21 Nov 2025) EllapsedTime: 19.8 seconds RetCode: 0 Status: OK