Package: gaga Version: 2.57.0 Command: rm -rf gaga.buildbin-libdir && mkdir gaga.buildbin-libdir && /Users/biocbuild/BBS/utils/build-universal.sh gaga_2.57.0.tar.gz /Library/Frameworks/R.framework/Resources/bin/R gaga.buildbin-libdir StartedAt: 2025-11-22 01:34:58 -0500 (Sat, 22 Nov 2025) EndedAt: 2025-11-22 01:35:23 -0500 (Sat, 22 Nov 2025) EllapsedTime: 24.4 seconds RetCode: 0 Status: OK PackageFile: gaga_2.57.0.tgz PackageFileSize: 781.8 KiB