Package: gaga Version: 2.57.0 Command: /Library/Frameworks/R.framework/Resources/bin/R CMD INSTALL gaga StartedAt: 2025-11-20 15:07:15 -0500 (Thu, 20 Nov 2025) EndedAt: 2025-11-20 15:07:20 -0500 (Thu, 20 Nov 2025) EllapsedTime: 4.8 seconds RetCode: 0 Status: OK