Package: gaga Version: 2.57.0 Command: /Library/Frameworks/R.framework/Resources/bin/R CMD build --keep-empty-dirs --no-resave-data gaga StartedAt: 2025-11-20 16:23:44 -0500 (Thu, 20 Nov 2025) EndedAt: 2025-11-20 16:23:55 -0500 (Thu, 20 Nov 2025) EllapsedTime: 11.1 seconds RetCode: 0 Status: OK PackageFile: gaga_2.57.0.tar.gz PackageFileSize: 569.9 KiB