Package: gaga Version: 2.57.0 Command: rm -rf gaga.buildbin-libdir && mkdir gaga.buildbin-libdir && /Users/biocbuild/BBS/utils/build-universal.sh gaga_2.57.0.tar.gz /Library/Frameworks/R.framework/Resources/bin/R gaga.buildbin-libdir StartedAt: 2025-11-20 23:33:53 -0500 (Thu, 20 Nov 2025) EndedAt: 2025-11-20 23:34:03 -0500 (Thu, 20 Nov 2025) EllapsedTime: 10.1 seconds RetCode: 0 Status: OK PackageFile: gaga_2.57.0.tgz PackageFileSize: 768.4 KiB