Package: gVenn Version: 0.99.1 Command: /home/biocbuild/bbs-3.22-bioc/R/bin/R CMD INSTALL gVenn StartedAt: 2025-10-03 15:14:13 -0400 (Fri, 03 Oct 2025) EndedAt: 2025-10-03 15:14:15 -0400 (Fri, 03 Oct 2025) EllapsedTime: 2.1 seconds RetCode: 0 Status: OK