Package: gVenn Version: 0.99.1 Command: /home/biocbuild/bbs-3.22-bioc/R/bin/R CMD build --keep-empty-dirs --no-resave-data --md5 gVenn StartedAt: 2025-10-03 17:59:44 -0400 (Fri, 03 Oct 2025) EndedAt: 2025-10-03 17:59:57 -0400 (Fri, 03 Oct 2025) EllapsedTime: 13.0 seconds RetCode: 0 Status: OK PackageFile: gVenn_0.99.1.tar.gz PackageFileSize: 1.42 MiB