Package: gVenn Version: 1.1.0 Command: /home/biocbuild/bbs-3.23-bioc/R/bin/R CMD build --keep-empty-dirs --no-resave-data gVenn StartedAt: 2025-11-20 18:00:27 -0500 (Thu, 20 Nov 2025) EndedAt: 2025-11-20 18:00:44 -0500 (Thu, 20 Nov 2025) EllapsedTime: 17.0 seconds RetCode: 0 Status: OK PackageFile: gVenn_1.1.0.tar.gz PackageFileSize: 1.999 MiB