Package: gVenn Version: 0.99.5 Command: /Library/Frameworks/R.framework/Resources/bin/R CMD build --keep-empty-dirs --no-resave-data gVenn StartedAt: 2025-10-24 17:21:38 -0400 (Fri, 24 Oct 2025) EndedAt: 2025-10-24 17:22:03 -0400 (Fri, 24 Oct 2025) EllapsedTime: 25.6 seconds RetCode: 0 Status: OK PackageFile: gVenn_0.99.5.tar.gz PackageFileSize: 2.231 MiB