Package: gVenn Version: 0.99.5 Command: rm -rf gVenn.buildbin-libdir && mkdir gVenn.buildbin-libdir && /Users/biocbuild/BBS/utils/build-universal.sh gVenn_0.99.5.tar.gz /Library/Frameworks/R.framework/Resources/bin/R gVenn.buildbin-libdir StartedAt: 2025-10-25 01:43:57 -0400 (Sat, 25 Oct 2025) EndedAt: 2025-10-25 01:44:04 -0400 (Sat, 25 Oct 2025) EllapsedTime: 7.0 seconds RetCode: 0 Status: OK PackageFile: gVenn_0.99.5.tgz PackageFileSize: 2.005 MiB