Package: gVenn Version: 0.99.1 Command: /Library/Frameworks/R.framework/Resources/bin/R CMD INSTALL gVenn StartedAt: 2025-10-06 15:10:33 -0400 (Mon, 06 Oct 2025) EndedAt: 2025-10-06 15:10:34 -0400 (Mon, 06 Oct 2025) EllapsedTime: 1.1 seconds RetCode: 0 Status: OK