Package: gVenn Version: 0.99.1 Command: /Library/Frameworks/R.framework/Resources/bin/R CMD build --keep-empty-dirs --no-resave-data gVenn StartedAt: 2025-10-06 16:39:35 -0400 (Mon, 06 Oct 2025) EndedAt: 2025-10-06 16:39:40 -0400 (Mon, 06 Oct 2025) EllapsedTime: 5.1 seconds RetCode: 0 Status: OK PackageFile: gVenn_0.99.1.tar.gz PackageFileSize: 1.458 MiB