Package: gVenn Version: 1.1.0 Maintainer: Christophe Tav MaintainerEmail: christophe.tav at gmail.com git_url: https://git.bioconductor.org/packages/gVenn git_branch: devel git_last_commit: 617952c git_last_commit_date: 2025-10-29 11:38:01 -0400 (Wed, 29 Oct 2025)