Package: gINTomics Version: 1.7.0 Command: /home/biocbuild/bbs-3.23-bioc/R/bin/R CMD INSTALL gINTomics StartedAt: 2025-11-04 15:52:07 -0500 (Tue, 04 Nov 2025) EndedAt: 2025-11-04 15:53:32 -0500 (Tue, 04 Nov 2025) EllapsedTime: 85.8 seconds RetCode: 0 Status: OK