Package: gINTomics Version: 1.5.0 Command: /Library/Frameworks/R.framework/Resources/bin/R CMD build --keep-empty-dirs --no-resave-data gINTomics StartedAt: 2025-09-30 17:09:41 -0400 (Tue, 30 Sep 2025) EndedAt: 2025-09-30 17:14:04 -0400 (Tue, 30 Sep 2025) EllapsedTime: 262.6 seconds RetCode: 0 Status: OK PackageFile: gINTomics_1.5.0.tar.gz PackageFileSize: 3.504 MiB