Package: gINTomics Version: 1.5.0 Command: rm -rf gINTomics.buildbin-libdir && mkdir gINTomics.buildbin-libdir && /Users/biocbuild/BBS/utils/build-universal.sh gINTomics_1.5.0.tar.gz /Library/Frameworks/R.framework/Resources/bin/R gINTomics.buildbin-libdir StartedAt: 2025-10-01 01:45:10 -0400 (Wed, 01 Oct 2025) EndedAt: 2025-10-01 01:47:22 -0400 (Wed, 01 Oct 2025) EllapsedTime: 132.6 seconds RetCode: 0 Status: OK PackageFile: gINTomics_1.5.0.tgz PackageFileSize: 3.787 MiB