Package: gDRutils Version: 1.9.1 Command: /home/biocbuild/bbs-3.23-bioc/R/bin/R CMD INSTALL gDRutils StartedAt: 2025-11-06 15:37:30 -0500 (Thu, 06 Nov 2025) EndedAt: 2025-11-06 15:37:54 -0500 (Thu, 06 Nov 2025) EllapsedTime: 23.4 seconds RetCode: 0 Status: OK