Package: gDRutils Version: 1.9.1 Command: /home/biocbuild/bbs-3.23-bioc/R/bin/R CMD check --install=check:gDRutils.install-out.txt --library=/home/biocbuild/bbs-3.23-bioc/R/site-library --timings gDRutils_1.9.1.tar.gz StartedAt: 2025-11-06 23:32:38 -0500 (Thu, 06 Nov 2025) EndedAt: 2025-11-06 23:37:09 -0500 (Thu, 06 Nov 2025) EllapsedTime: 271.4 seconds RetCode: 0 Status: OK CheckDir: gDRutils.Rcheck Warnings: 0