Package: gDRstyle Version: 1.9.1 Command: /home/biocbuild/bbs-3.23-bioc/R/bin/R CMD INSTALL gDRstyle StartedAt: 2025-11-20 15:13:51 -0500 (Thu, 20 Nov 2025) EndedAt: 2025-11-20 15:13:54 -0500 (Thu, 20 Nov 2025) EllapsedTime: 2.6 seconds RetCode: 0 Status: OK