Package: gDRstyle Version: 1.9.1 Command: /home/biocbuild/bbs-3.23-bioc/R/bin/R CMD build --keep-empty-dirs --no-resave-data gDRstyle StartedAt: 2025-11-20 17:43:13 -0500 (Thu, 20 Nov 2025) EndedAt: 2025-11-20 17:43:20 -0500 (Thu, 20 Nov 2025) EllapsedTime: 7.0 seconds RetCode: 0 Status: OK PackageFile: gDRstyle_1.9.1.tar.gz PackageFileSize: 598.4 KiB