Package: gDRimport Version: 1.9.1 Command: /home/biocbuild/bbs-3.23-bioc/R/bin/R CMD INSTALL gDRimport StartedAt: 2025-11-20 15:38:13 -0500 (Thu, 20 Nov 2025) EndedAt: 2025-11-20 15:38:36 -0500 (Thu, 20 Nov 2025) EllapsedTime: 23.4 seconds RetCode: 0 Status: OK