############################################################################## ############################################################################## ### ### Running command: ### ### /home/biocbuild/bbs-3.23-bioc/R/bin/R CMD INSTALL gDRimport ### ############################################################################## ############################################################################## * installing to library ‘/home/biocbuild/bbs-3.23-bioc/R/site-library’ * installing *source* package ‘gDRimport’ ... ** this is package ‘gDRimport’ version ‘1.9.1’ ** using staged installation ** R ** inst ** byte-compile and prepare package for lazy loading Warning: stack imbalance in '::', 44 then 46 Warning: stack imbalance in 'sprintf', 36 then 38 Warning: stack imbalance in '<-', 25 then 27 ** help *** installing help indices ** building package indices ** installing vignettes ** testing if installed package can be loaded from temporary location ** testing if installed package can be loaded from final location ** testing if installed package keeps a record of temporary installation path * DONE (gDRimport)