Package: gDRimport Version: 1.9.1 Command: /home/biocbuild/bbs-3.23-bioc/R/bin/R CMD build --keep-empty-dirs --no-resave-data gDRimport StartedAt: 2025-11-20 17:43:02 -0500 (Thu, 20 Nov 2025) EndedAt: 2025-11-20 17:43:48 -0500 (Thu, 20 Nov 2025) EllapsedTime: 46.0 seconds RetCode: 1 Status: ERROR PackageFile: None PackageFileSize: NA