Package: gDRimport Version: 1.7.5 Command: /Library/Frameworks/R.framework/Resources/bin/R CMD build --keep-empty-dirs --no-resave-data gDRimport StartedAt: 2025-10-27 17:01:15 -0400 (Mon, 27 Oct 2025) EndedAt: 2025-10-27 17:02:17 -0400 (Mon, 27 Oct 2025) EllapsedTime: 61.8 seconds RetCode: 0 Status: OK PackageFile: gDRimport_1.7.5.tar.gz PackageFileSize: 3.009 MiB