Package: gDRimport Version: 1.7.5 Command: rm -rf gDRimport.buildbin-libdir && mkdir gDRimport.buildbin-libdir && /Users/biocbuild/BBS/utils/build-universal.sh gDRimport_1.7.5.tar.gz /Library/Frameworks/R.framework/Resources/bin/R gDRimport.buildbin-libdir StartedAt: 2025-10-29 01:36:00 -0400 (Wed, 29 Oct 2025) EndedAt: 2025-10-29 01:36:37 -0400 (Wed, 29 Oct 2025) EllapsedTime: 37.2 seconds RetCode: 0 Status: OK PackageFile: gDRimport_1.7.5.tgz PackageFileSize: 3.329 MiB