Package: gDRimport Version: 1.7.5 Command: /Library/Frameworks/R.framework/Resources/bin/R CMD INSTALL gDRimport StartedAt: 2025-10-12 15:19:46 -0400 (Sun, 12 Oct 2025) EndedAt: 2025-10-12 15:19:55 -0400 (Sun, 12 Oct 2025) EllapsedTime: 9.4 seconds RetCode: 0 Status: OK