Package: gDRimport Version: 1.7.5 Command: rm -rf gDRimport.buildbin-libdir && mkdir gDRimport.buildbin-libdir && /Users/biocbuild/BBS/utils/build-universal.sh gDRimport_1.7.5.tar.gz /Library/Frameworks/R.framework/Resources/bin/R gDRimport.buildbin-libdir StartedAt: 2025-10-12 22:38:01 -0400 (Sun, 12 Oct 2025) EndedAt: 2025-10-12 22:38:15 -0400 (Sun, 12 Oct 2025) EllapsedTime: 14.3 seconds RetCode: 0 Status: OK PackageFile: gDRimport_1.7.5.tgz PackageFileSize: 3.333 MiB