Package: gDRcore Version: 1.7.8 Command: /home/biocbuild/R/R/bin/R CMD INSTALL gDRcore StartedAt: 2025-10-13 21:22:03 -0000 (Mon, 13 Oct 2025) EndedAt: 2025-10-13 21:22:22 -0000 (Mon, 13 Oct 2025) EllapsedTime: 18.4 seconds RetCode: 0 Status: OK