Package: gDRcore Version: 1.7.8 Command: /home/biocbuild/R/R/bin/R CMD build --keep-empty-dirs --no-resave-data gDRcore StartedAt: 2025-10-14 00:21:38 -0000 (Tue, 14 Oct 2025) EndedAt: 2025-10-14 00:22:35 -0000 (Tue, 14 Oct 2025) EllapsedTime: 57.0 seconds RetCode: 0 Status: OK PackageFile: gDRcore_1.7.8.tar.gz PackageFileSize: 1.164 MiB