Package: gDRcore Version: 1.7.8 Command: /home/biocbuild/bbs-3.22-bioc/R/bin/R CMD check --install=check:gDRcore.install-out.txt --library=/home/biocbuild/bbs-3.22-bioc/R/site-library --timings gDRcore_1.7.8.tar.gz StartedAt: 2025-10-07 00:03:53 -0400 (Tue, 07 Oct 2025) EndedAt: 2025-10-07 00:09:44 -0400 (Tue, 07 Oct 2025) EllapsedTime: 350.3 seconds RetCode: 0 Status: OK CheckDir: gDRcore.Rcheck Warnings: 0