Package: gDRcore Version: 1.9.1 Command: /home/biocbuild/bbs-3.23-bioc/R/bin/R CMD INSTALL gDRcore StartedAt: 2025-11-05 15:45:20 -0500 (Wed, 05 Nov 2025) EndedAt: 2025-11-05 15:45:35 -0500 (Wed, 05 Nov 2025) EllapsedTime: 14.3 seconds RetCode: 0 Status: OK