Package: gDRcore Version: 1.9.1 Command: /home/biocbuild/bbs-3.23-bioc/R/bin/R CMD check --install=check:gDRcore.install-out.txt --library=/home/biocbuild/bbs-3.23-bioc/R/site-library --timings gDRcore_1.9.1.tar.gz StartedAt: 2025-11-14 23:44:41 -0500 (Fri, 14 Nov 2025) EndedAt: 2025-11-14 23:50:21 -0500 (Fri, 14 Nov 2025) EllapsedTime: 339.4 seconds RetCode: 0 Status: WARNINGS CheckDir: gDRcore.Rcheck Warnings: 1